Workbook

Sheet Лист1
A1: Утверждаю: | D1: =[1]Обор.школа!D3 -> МБОУ "СОШ №1 г. Мамадыш" | R1: =G4 -> 44576 | X1: УТВЕРЖДАЮ:
C3: МЕНЮ-ТРЕБОВАНИЕ | X3: =[1]Обор.школа!B75 -> Директор школы: Гилаев Р.Д.
A4: НА ВЫДАЧУ ПРОДУКТОВ ПИТАНИЯ НА | G4: =[1]Накопительная!I7 -> 44576 | L4: КОЛ-ВО ДОВОЛЬСТВ. | Q4: 185 | R4: ЧЕЛ.
X5: на | Y5: =G4 -> 44576
A8: Наименование продуктов | B8: ед. изм | C8: Цена за кг | D8: Наименование блюда и выход в граммах | T8: Итого на 1 чел. в г. | U8: Итого к выд. в г. | V8: Сумма в рублях | X8: № блюд по прейск. | Y8: Наименование | AA8: Цена | AB8: Выход
E9: салат овощной с яблоками | F9: котлеты из птицы | G9: пюре картофельное | H9: чай с сахаром | I9: хлеб пшеничный | J9: хлеб ржаной
E10: 60 | F10: 80 | G10: 150 | H10: 200 | I10: 30 | J10: 20 | Y10: =D9 -> 0 | AA10: =D73 -> 0 | AB10: =D10 -> 0
A11: =[1]Обор.школа!A11 -> хлеб ржаной | B11: г. | C11: =[1]Обор.школа!B11 -> 54 | J11: 20 | T11: =SUM(D11:S11) -> 20 | U11: =T11*$Q$4 -> 3700 | V11: =U11/1000*C11 -> 199.8
A12: =[1]Обор.школа!A12 -> хлеб пшеничный | B12: г. | C12: =[1]Обор.школа!B12 -> 54 | F12: 13 | I12: 30 | T12: =SUM(D12:S12) -> 43 | U12: =T12*$Q$4 -> 7955 | V12: =U12/1000*C12 -> 429.57
A13: =[1]Обор.школа!A13 -> рис | B13: г. | C13: =[1]Обор.школа!B13 -> 65 | T13: =SUM(D13:S13) -> 0 | U13: =T13*$Q$4 -> 0 | V13: =U13/1000*C13 -> 0 | Y13: =E9 -> салат овощной с яблоками | AA13: =E73 -> 8.79928 | AB13: =E10 -> 60
A14: =[1]Обор.школа!A14 -> гречка | B14: г. | C14: =[1]Обор.школа!B14 -> 80 | T14: =SUM(D14:S14) -> 0 | U14: =T14*$Q$4 -> 0 | V14: =U14/1000*C14 -> 0
A15: =[1]Обор.школа!A15 -> 0 | B15: г. | C15: =[1]Обор.школа!B15 -> 0 | T15: =SUM(D15:S15) -> 0 | U15: =T15*$Q$4 -> 0 | V15: =U15/1000*C15 -> 0 | Y15: =F9 -> котлеты из птицы | AA15: =F73 -> 40.449 | AB15: =F10 -> 80
A16: =[1]Обор.школа!A16 -> макароны | B16: г. | C16: =[1]Обор.школа!B16 -> 50 | T16: =SUM(D16:S16) -> 0 | U16: =T16*$Q$4 -> 0 | V16: =U16/1000*C16 -> 0
A17: =[1]Обор.школа!A17 -> 0 | B17: г. | C17: =[1]Обор.школа!B17 -> 0 | T17: =SUM(D17:S17) -> 0 | U17: =T17*$Q$4 -> 0 | V17: =U17/1000*C17 -> 0 | Y17: =G9 -> пюре картофельное | AA17: =G73 -> 11.228 | AB17: =G10 -> 150
A18: =[1]Обор.школа!A18 -> сахар | B18: г. | C18: =[1]Обор.школа!B18 -> 50 | H18: 15 | T18: =SUM(D18:S18) -> 15 | U18: =T18*$Q$4 -> 2775 | V18: =U18/1000*C18 -> 138.75
A19: =[1]Обор.школа!A19 -> какао-порошок | B19: г. | C19: =[1]Обор.школа!B19 -> 250 | T19: =SUM(D19:S19) -> 0 | U19: =T19*$Q$4 -> 0 | V19: =U19/1000*C19 -> 0 | Y19: =H9 -> чай с сахаром | AA19: =H73 -> 1.41 | AB19: =H10 -> 200
A20: =[1]Обор.школа!A20 -> кофейный напиток | B20: г. | C20: =[1]Обор.школа!B20 -> 480 | T20: =SUM(D20:S20) -> 0 | U20: =T20*$Q$4 -> 0 | V20: =U20/1000*C20 -> 0
A21: =[1]Обор.школа!A21 -> чай | B21: г. | C21: =[1]Обор.школа!B21 -> 660 | H21: 1 | T21: =SUM(D21:S21) -> 1 | U21: =T21*$Q$4 -> 185 | V21: =U21/1000*C21 -> 122.1 | Y21: =I9 -> хлеб пшеничный | AA21: =I73 -> 1.62 | AB21: =I10 -> 30
A22: =[1]Обор.школа!A22 -> соль | B22: г. | C22: =[1]Обор.школа!B22 -> 12 | F22: 1 | G22: 1 | T22: =SUM(D22:S22) -> 2 | U22: =T22*$Q$4 -> 370 | V22: =U22/1000*C22 -> 4.44
A23: =[1]Обор.школа!A23 -> 0 | B23: г. | C23: =[1]Обор.школа!B23 -> 0 | T23: =SUM(D23:S23) -> 0 | U23: =T23*$Q$4 -> 0 | V23: =U23/1000*C23 -> 0 | Y23: =J9 -> хлеб ржаной | AA23: =J73 -> 1.08 | AB23: =J10 -> 20
A24: =[1]Обор.школа!A24 -> томат | B24: г. | C24: =[1]Обор.школа!B24 -> 150 | T24: =SUM(D24:S24) -> 0 | U24: =T24*$Q$4 -> 0 | V24: =U24/1000*C24 -> 0
A25: =[1]Обор.школа!A25 -> мука пшеничная | B25: г. | C25: =[1]Обор.школа!B25 -> 30 | T25: =SUM(D25:S25) -> 0 | U25: =T25*$Q$4 -> 0 | V25: =U25/1000*C25 -> 0 | Y25: =K9 -> 0 | AA25: =K73 -> 0 | AB25: =K10 -> 0
A26: =[1]Обор.школа!A26 -> картофель | B26: г. | C26: =[1]Обор.школа!B26 -> 43 | G26: 172 | T26: =SUM(D26:S26) -> 172 | U26: =T26*$Q$4 -> 31820 | V26: =U26/1000*C26 -> 1368.26
A27: =[1]Обор.школа!A27 -> капуста | B27: г. | C27: =[1]Обор.школа!B27 -> 60 | E27: 23 | T27: =SUM(D27:S27) -> 23 | U27: =T27*$Q$4 -> 4255 | V27: =U27/1000*C27 -> 255.3 | Y27: =L9 -> 0 | AA27: =L73 -> 0 | AB27: =L10 -> 0
A28: =[1]Обор.школа!A28 -> лук | B28: г. | C28: =[1]Обор.школа!B28 -> 45 | T28: =SUM(D28:S28) -> 0 | U28: =T28*$Q$4 -> 0 | V28: =U28/1000*C28 -> 0
A29: =[1]Обор.школа!A29 -> морковь | B29: г. | C29: =[1]Обор.школа!B29 -> 43 | E29: 10 | T29: =SUM(D29:S29) -> 10 | U29: =T29*$Q$4 -> 1850 | V29: =U29/1000*C29 -> 79.55 | Y29: =M9 -> 0 | AA29: =M73 -> 0 | AB29: =M10 -> 0
A30: =[1]Обор.школа!A30 -> свекла | B30: г. | C30: =[1]Обор.школа!B30 -> 43 | E30: 12.96 | T30: =SUM(D30:S30) -> 12.96 | U30: =T30*$Q$4 -> 2397.6 | V30: =U30/1000*C30 -> 103.0968
A31: =[1]Обор.школа!A31 -> 0 | B31: г. | C31: =[1]Обор.школа!B31 -> 0 | T31: =SUM(D31:S31) -> 0 | U31: =T31*$Q$4 -> 0 | V31: =U31/1000*C31 -> 0 | Y31: =N9 -> 0 | AA31: =N73 -> 0 | AB31: =N10 -> 0
A32: =[1]Обор.школа!A32 -> помидоры | B32: г. | C32: =[1]Обор.школа!B32 -> 0 | T32: =SUM(D32:S32) -> 0 | U32: =T32*$Q$4 -> 0 | V32: =U32/1000*C32 -> 0
A33: =[1]Обор.школа!A33 -> огурцы | B33: г. | C33: =[1]Обор.школа!B33 -> 0 | T33: =SUM(D33:S33) -> 0 | U33: =T33*$Q$4 -> 0 | V33: =U33/1000*C33 -> 0 | Y33: =O9 -> 0 | AA33: =O73 -> 0 | AB33: =O10 -> 0
A34: =[1]Обор.школа!A34 -> апельсин | B34: г. | C34: =[1]Обор.школа!B34 -> 140 | T34: =SUM(D34:S34) -> 0 | U34: =T34*$Q$4 -> 0 | V34: =U34/1000*C34 -> 0
A35: =[1]Обор.школа!A35 -> лимон | B35: г. | C35: =[1]Обор.школа!B35 -> 200 | E35: 12 | T35: =SUM(D35:S35) -> 12 | U35: =T35*$Q$4 -> 2220 | V35: =U35/1000*C35 -> 444 | Y35: =P9 -> 0 | AA35: =P73 -> 0 | AB35: =P10 -> 0
A36: =[1]Обор.школа!A36 -> груша | B36: г. | C36: =[1]Обор.школа!B36 -> 0 | T36: =SUM(D36:S36) -> 0 | U36: =T36*$Q$4 -> 0 | V36: =U36/1000*C36 -> 0
A37: =[1]Обор.школа!A37 -> мандарин | B37: г. | C37: =[1]Обор.школа!B37 -> 0 | T37: =SUM(D37:S37) -> 0 | U37: =T37*$Q$4 -> 0 | V37: =U37/1000*C37 -> 0 | Y37: =Q9 -> 0 | AA37: =Q73 -> 0 | AB37: =Q10 -> 0
A38: =[1]Обор.школа!A38 -> яблоки | B38: г. | C38: =[1]Обор.школа!B38 -> 144 | E38: 28 | T38: =SUM(D38:S38) -> 28 | U38: =T38*$Q$4 -> 5180 | V38: =U38/1000*C38 -> 745.92
A39: =[1]Обор.школа!A39 -> банан | B39: г. | C39: =[1]Обор.школа!B39 -> 0 | T39: =SUM(D39:S39) -> 0 | U39: =T39*$Q$4 -> 0 | V39: =U39/1000*C39 -> 0 | Y39: =R9 -> 0 | AA39: =R73 -> 0 | AB39: =R10 -> 0
A40: =[1]Обор.школа!A40 -> мясо лопаточное | B40: г. | C40: =[1]Обор.школа!B40 -> 0 | T40: =SUM(D40:S40) -> 0 | U40: =T40*$Q$4 -> 0 | V40: =U40/1000*C40 -> 0
A41: =[1]Обор.школа!A41 -> мясо котлетное | B41: г. | C41: =[1]Обор.школа!B41 -> 374 | T41: =SUM(D41:S41) -> 0 | U41: =T41*$Q$4 -> 0 | V41: =U41/1000*C41 -> 0 | Y41: =S9 -> 0 | AA41: =S73 -> 0 | AB41: =S10 -> 0
A42: =[1]Обор.школа!A42 -> куриная грудка | B42: г. | C42: =[1]Обор.школа!B42 -> 260 | F42: 136 | T42: =SUM(D42:S42) -> 136 | U42: =T42*$Q$4 -> 25160 | V42: =U42/1000*C42 -> 6541.6
A43: =[1]Обор.школа!A43 -> 0 | B43: г. | C43: =[1]Обор.школа!B43 -> 0 | T43: =SUM(D43:S43) -> 0 | U43: =T43*$Q$4 -> 0 | V43: =U43/1000*C43 -> 0 | Z43: Итого: | AA43: =SUM(AA10:AA42) -> 64.58628
...

Sheet Лист2

Sheet Лист3
