Workbook

Sheet Лист1
A1: Утверждаю: | D1: =[1]Обор.школа!D3 -> МБОУ "СОШ №1 г. Мамадыш" | R1: =G4 -> 44576 | X1: УТВЕРЖДАЮ:
C3: МЕНЮ-ТРЕБОВАНИЕ | X3: =[1]Обор.школа!B75 -> Директор школы: Гилаев Р.Д.
A4: НА ВЫДАЧУ ПРОДУКТОВ ПИТАНИЯ НА | G4: =[1]Накопительная!I7 -> 44576 | L4: КОЛ-ВО ДОВОЛЬСТВ. | Q4: 185 | R4: ЧЕЛ.
X5: на | Y5: =G4 -> 44576
A8: Наименование продуктов | B8: ед. изм | C8: Цена за кг | D8: Наименование блюда и выход в граммах | T8: Итого на 1 чел. в г. | U8: Итого к выд. в г. | V8: Сумма в рублях | X8: № блюд по прейск. | Y8: Наименование | AA8: Цена | AB8: Выход
E9: салат овощной с яблоками | F9: котлеты из птицы | G9: пюре картофельное | H9: чай с сахаром | I9: хлеб пшеничный | J9: хлеб ржаной
E10: 60 | F10: 80 | G10: 150 | H10: 200 | I10: 30 | J10: 20 | Y10: =D9 -> 0 | AA10: =D73 -> 0 | AB10: =D10 -> 0
A11: =[1]Обор.школа!A11 -> хлеб ржаной | B11: г. | C11: =[1]Обор.школа!B11 -> 54 | J11: 20 | T11: =SUM(D11:S11) -> 20 | U11: =T11*$Q$4 -> 3700 | V11: =U11/1000*C11 -> 199.8
A12: =[1]Обор.школа!A12 -> хлеб пшеничный | B12: г. | C12: =[1]Обор.школа!B12 -> 54 | F12: 13 | I12: 30 | T12: =SUM(D12:S12) -> 43 | U12: =T12*$Q$4 -> 7955 | V12: =U12/1000*C12 -> 429.57
A13: =[1]Обор.школа!A13 -> рис | B13: г. | C13: =[1]Обор.школа!B13 -> 65 | T13: =SUM(D13:S13) -> 0 | U13: =T13*$Q$4 -> 0 | V13: =U13/1000*C13 -> 0 | Y13: =E9 -> салат овощной с яблоками | AA13: =E73 -> 8.79928 | AB13: =E10 -> 60
A14: =[1]Обор.школа!A14 -> гречка | B14: г. | C14: =[1]Обор.школа!B14 -> 80 | T14: =SUM(D14:S14) -> 0 | U14: =T14*$Q$4 -> 0 | V14: =U14/1000*C14 -> 0
A15: =[1]Обор.школа!A15 -> 0 | B15: г. | C15: =[1]Обор.школа!B15 -> 0 | T15: =SUM(D15:S15) -> 0 | U15: =T15*$Q$4 -> 0 | V15: =U15/1000*C15 -> 0 | Y15: =F9 -> котлеты из птицы | AA15: =F73 -> 40.449 | AB15: =F10 -> 80
A16: =[1]Обор.школа!A16 -> макароны | B16: г. | C16: =[1]Обор.школа!B16 -> 50 | T16: =SUM(D16:S16) -> 0 | U16: =T16*$Q$4 -> 0 | V16: =U16/1000*C16 -> 0
A17: =[1]Обор.школа!A17 -> 0 | B17: г. | C17: =[1]Обор.школа!B17 -> 0 | T17: =SUM(D17:S17) -> 0 | U17: =T17*$Q$4 -> 0 | V17: =U17/1000*C17 -> 0 | Y17: =G9 -> пюре картофельное | AA17: =G73 -> 11.228 | AB17: =G10 -> 150
A18: =[1]Обор.школа!A18 -> сахар | B18: г. | C18: =[1]Обор.школа!B18 -> 50 | H18: 15 | T18: =SUM(D18:S18) -> 15 | U18: =T18*$Q$4 -> 2775 | V18: =U18/1000*C18 -> 138.75
A19: =[1]Обор.школа!A19 -> какао-порошок | B19: г. | C19: =[1]Обор.школа!B19 -> 250 | T19: =SUM(D19:S19) -> 0 | U19: =T19*$Q$4 -> 0 | V19: =U19/1000*C19 -> 0 | Y19: =H9 -> чай с сахаром | AA19: =H73 -> 1.41 | AB19: =H10 -> 200
A20: =[1]Обор.школа!A20 -> кофейный напиток | B20: г. | C20: =[1]Обор.школа!B20 -> 480 | T20: =SUM(D20:S20) -> 0 | U20: =T20*$Q$4 -> 0 | V20: =U20/1000*C20 -> 0
A21: =[1]Обор.школа!A21 -> чай | B21: г. | C21: =[1]Обор.школа!B21 -> 660 | H21: 1 | T21: =SUM(D21:S21) -> 1 | U21: =T21*$Q$4 -> 185 | V21: =U21/1000*C21 -> 122.1 | Y21: =I9 -> хлеб пшеничный | AA21: =I73 -> 1.62 | AB21: =I10 -> 30
A22: =[1]Обор.школа!A22 -> соль | B22: г. | C22: =[1]Обор.школа!B22 -> 12 | F22: 1 | G22: 1 | T22: =SUM(D22:S22) -> 2 | U22: =T22*$Q$4 -> 370 | V22: =U22/1000*C22 -> 4.44
A23: =[1]Обор.школа!A23 -> 0 | B23: г. | C23: =[1]Обор.школа!B23 -> 0 | T23: =SUM(D23:S23) -> 0 | U23: =T23*$Q$4 -> 0 | V23: =U23/1000*C23 -> 0 | Y23: =J9 -> хлеб ржаной | AA23: =J73 -> 1.08 | AB23: =J10 -> 20
A24: =[1]Обор.школа!A24 -> томат | B24: г. | C24: =[1]Обор.школа!B24 -> 150 | T24: =SUM(D24:S24) -> 0 | U24: =T24*$Q$4 -> 0 | V24: =U24/1000*C24 -> 0
A25: =[1]Обор.школа!A25 -> мука пшеничная | B25: г. | C25: =[1]Обор.школа!B25 -> 30 | T25: =SUM(D25:S25) -> 0 | U25: =T25*$Q$4 -> 0 | V25: =U25/1000*C25 -> 0 | Y25: =K9 -> 0 | AA25: =K73 -> 0 | AB25: =K10 -> 0
A26: =[1]Обор.школа!A26 -> картофель | B26: г. | C26: =[1]Обор.школа!B26 -> 43 | G26: 172 | T26: =SUM(D26:S26) -> 172 | U26: =T26*$Q$4 -> 31820 | V26: =U26/1000*C26 -> 1368.26
A27: =[1]Обор.школа!A27 -> капуста | B27: г. | C27: =[1]Обор.школа!B27 -> 60 | E27: 23 | T27: =SUM(D27:S27) -> 23 | U27: =T27*$Q$4 -> 4255 | V27: =U27/1000*C27 -> 255.3 | Y27: =L9 -> 0 | AA27: =L73 -> 0 | AB27: =L10 -> 0
A28: =[1]Обор.школа!A28 -> лук | B28: г. | C28: =[1]Обор.школа!B28 -> 45 | T28: =SUM(D28:S28) -> 0 | U28: =T28*$Q$4 -> 0 | V28: =U28/1000*C28 -> 0
A29: =[1]Обор.школа!A29 -> морковь | B29: г. | C29: =[1]Обор.школа!B29 -> 43 | E29: 10 | T29: =SUM(D29:S29) -> 10 | U29: =T29*$Q$4 -> 1850 | V29: =U29/1000*C29 -> 79.55 | Y29: =M9 -> 0 | AA29: =M73 -> 0 | AB29: =M10 -> 0
A30: =[1]Обор.школа!A30 -> свекла | B30: г. | C30: =[1]Обор.школа!B30 -> 43 | E30: 12.96 | T30: =SUM(D30:S30) -> 12.96 | U30: =T30*$Q$4 -> 2397.6 | V30: =U30/1000*C30 -> 103.0968
A31: =[1]Обор.школа!A31 -> 0 | B31: г. | C31: =[1]Обор.школа!B31 -> 0 | T31: =SUM(D31:S31) -> 0 | U31: =T31*$Q$4 -> 0 | V31: =U31/1000*C31 -> 0 | Y31: =N9 -> 0 | AA31: =N73 -> 0 | AB31: =N10 -> 0
A32: =[1]Обор.школа!A32 -> помидоры | B32: г. | C32: =[1]Обор.школа!B32 -> 0 | T32: =SUM(D32:S32) -> 0 | U32: =T32*$Q$4 -> 0 | V32: =U32/1000*C32 -> 0
A33: =[1]Обор.школа!A33 -> огурцы | B33: г. | C33: =[1]Обор.школа!B33 -> 0 | T33: =SUM(D33:S33) -> 0 | U33: =T33*$Q$4 -> 0 | V33: =U33/1000*C33 -> 0 | Y33: =O9 -> 0 | AA33: =O73 -> 0 | AB33: =O10 -> 0
A34: =[1]Обор.школа!A34 -> апельсин | B34: г. | C34: =[1]Обор.школа!B34 -> 140 | T34: =SUM(D34:S34) -> 0 | U34: =T34*$Q$4 -> 0 | V34: =U34/1000*C34 -> 0
A35: =[1]Обор.школа!A35 -> лимон | B35: г. | C35: =[1]Обор.школа!B35 -> 200 | E35: 12 | T35: =SUM(D35:S35) -> 12 | U35: =T35*$Q$4 -> 2220 | V35: =U35/1000*C35 -> 444 | Y35: =P9 -> 0 | AA35: =P73 -> 0 | AB35: =P10 -> 0
A36: =[1]Обор.школа!A36 -> груша | B36: г. | C36: =[1]Обор.школа!B36 -> 0 | T36: =SUM(D36:S36) -> 0 | U36: =T36*$Q$4 -> 0 | V36: =U36/1000*C36 -> 0
A37: =[1]Обор.школа!A37 -> мандарин | B37: г. | C37: =[1]Обор.школа!B37 -> 0 | T37: =SUM(D37:S37) -> 0 | U37: =T37*$Q$4 -> 0 | V37: =U37/1000*C37 -> 0 | Y37: =Q9 -> 0 | AA37: =Q73 -> 0 | AB37: =Q10 -> 0
A38: =[1]Обор.школа!A38 -> яблоки | B38: г. | C38: =[1]Обор.школа!B38 -> 144 | E38: 28 | T38: =SUM(D38:S38) -> 28 | U38: =T38*$Q$4 -> 5180 | V38: =U38/1000*C38 -> 745.92
A39: =[1]Обор.школа!A39 -> банан | B39: г. | C39: =[1]Обор.школа!B39 -> 0 | T39: =SUM(D39:S39) -> 0 | U39: =T39*$Q$4 -> 0 | V39: =U39/1000*C39 -> 0 | Y39: =R9 -> 0 | AA39: =R73 -> 0 | AB39: =R10 -> 0
A40: =[1]Обор.школа!A40 -> мясо лопаточное | B40: г. | C40: =[1]Обор.школа!B40 -> 0 | T40: =SUM(D40:S40) -> 0 | U40: =T40*$Q$4 -> 0 | V40: =U40/1000*C40 -> 0
A41: =[1]Обор.школа!A41 -> мясо котлетное | B41: г. | C41: =[1]Обор.школа!B41 -> 374 | T41: =SUM(D41:S41) -> 0 | U41: =T41*$Q$4 -> 0 | V41: =U41/1000*C41 -> 0 | Y41: =S9 -> 0 | AA41: =S73 -> 0 | AB41: =S10 -> 0
A42: =[1]Обор.школа!A42 -> куриная грудка | B42: г. | C42: =[1]Обор.школа!B42 -> 260 | F42: 136 | T42: =SUM(D42:S42) -> 136 | U42: =T42*$Q$4 -> 25160 | V42: =U42/1000*C42 -> 6541.6
A43: =[1]Обор.школа!A43 -> 0 | B43: г. | C43: =[1]Обор.школа!B43 -> 0 | T43: =SUM(D43:S43) -> 0 | U43: =T43*$Q$4 -> 0 | V43: =U43/1000*C43 -> 0 | Z43: Итого: | AA43: =SUM(AA10:AA42) -> 64.58628
A44: =[1]Обор.школа!A44 -> 0 | B44: г. | C44: =[1]Обор.школа!B44 -> 0 | T44: =SUM(D44:S44) -> 0 | U44: =T44*$Q$4 -> 0 | V44: =U44/1000*C44 -> 0
A45: =[1]Обор.школа!A45 -> 0 | B45: г. | C45: =[1]Обор.школа!B45 -> 0 | T45: =SUM(D45:S45) -> 0 | U45: =T45*$Q$4 -> 0 | V45: =U45/1000*C45 -> 0 | X45: Зав.столовой:_________ Бракер.комиссия_________
A46: =[1]Обор.школа!A46 -> 0 | B46: г. | C46: =[1]Обор.школа!B46 -> 0 | T46: =SUM(D46:S46) -> 0 | U46: =T46*$Q$4 -> 0 | V46: =U46/1000*C46 -> 0
A47: =[1]Обор.школа!A47 -> молоко | B47: г. | C47: =[1]Обор.школа!B47 -> 55 | F47: 19 | G47: 24 | T47: =SUM(D47:S47) -> 43 | U47: =T47*$Q$4 -> 7955 | V47: =U47/1000*C47 -> 437.525
A48: =[1]Обор.школа!A48 -> сметана | B48: г. | C48: =[1]Обор.школа!B48 -> 172 | T48: =SUM(D48:S48) -> 0 | U48: =T48*$Q$4 -> 0 | V48: =U48/1000*C48 -> 0
A49: =[1]Обор.школа!A49 -> сыр голланд. | B49: г. | C49: =[1]Обор.школа!B49 -> 0 | T49: =SUM(D49:S49) -> 0 | U49: =T49*$Q$4 -> 0 | V49: =U49/1000*C49 -> 0
A50: =[1]Обор.школа!A50 -> масло слив. | B50: г. | C50: =[1]Обор.школа!B50 -> 500 | F50: 5 | G50: 5 | T50: =SUM(D50:S50) -> 10 | U50: =T50*$Q$4 -> 1850 | V50: =U50/1000*C50 -> 925
A51: =[1]Обор.школа!A51 -> масло растит. | B51: г. | C51: =[1]Обор.школа!B51 -> 110 | F51: 3 | T51: =SUM(D51:S51) -> 3 | U51: =T51*$Q$4 -> 555 | V51: =U51/1000*C51 -> 61.05
A52: =[1]Обор.школа!A52 -> 0 | B52: г. | C52: =[1]Обор.школа!B52 -> 0 | T52: =SUM(D52:S52) -> 0 | U52: =T52*$Q$4 -> 0 | V52: =U52/1000*C52 -> 0
A53: =[1]Обор.школа!A53 -> филе минтай | B53: г. | C53: =[1]Обор.школа!B53 -> 280 | T53: =SUM(D53:S53) -> 0 | U53: =T53*$Q$4 -> 0 | V53: =U53/1000*C53 -> 0
A54: =[1]Обор.школа!A54 -> 0 | B54: г. | C54: =[1]Обор.школа!B54 -> 0 | T54: =SUM(D54:S54) -> 0 | U54: =T54*$Q$4 -> 0 | V54: =U54/1000*C54 -> 0
A55: =[1]Обор.школа!A55 -> сухари панировочные | B55: г. | C55: =[1]Обор.школа!B55 -> 100 | F55: 5 | T55: =SUM(D55:S55) -> 5 | U55: =T55*$Q$4 -> 925 | V55: =U55/1000*C55 -> 92.5
A56: =[1]Обор.школа!A56 -> 0 | B56: г. | C56: =[1]Обор.школа!B56 -> 0 | T56: =SUM(D56:S56) -> 0 | U56: =T56*$Q$4 -> 0 | V56: =U56/1000*C56 -> 0
A57: =[1]Обор.школа!A57 -> 0 | B57: г. | C57: =[1]Обор.школа!B57 -> 0 | T57: =SUM(D57:S57) -> 0 | U57: =T57*$Q$4 -> 0 | V57: =U57/1000*C57 -> 0
A58: =[1]Обор.школа!A58 -> капуста квашеная | B58: г. | C58: =[1]Обор.школа!B58 -> 150 | T58: =SUM(D58:S58) -> 0 | U58: =T58*$Q$4 -> 0 | V58: =U58/1000*C58 -> 0
A59: =[1]Обор.школа!A59 -> 0 | B59: г. | C59: =[1]Обор.школа!B59 -> 0 | T59: =SUM(D59:S59) -> 0 | U59: =T59*$Q$4 -> 0 | V59: =U59/1000*C59 -> 0
A60: =[1]Обор.школа!A60 -> пельмени | B60: г. | C60: =[1]Обор.школа!B60 -> 280 | T60: =SUM(D60:S60) -> 0 | U60: =T60*$Q$4 -> 0 | V60: =U60/1000*C60 -> 0
A61: =[1]Обор.школа!A61 -> 0 | B61: г. | C61: =[1]Обор.школа!B61 -> 0 | T61: =SUM(D61:S61) -> 0 | U61: =T61*$Q$4 -> 0 | V61: =U61/1000*C61 -> 0
A62: =[1]Обор.школа!A62 -> 0 | B62: г. | C62: =[1]Обор.школа!B62 -> 0 | T62: =SUM(D62:S62) -> 0 | U62: =T62*$Q$4 -> 0 | V62: =U62/1000*C62 -> 0
A63: =[1]Обор.школа!A63 -> 0 | B63: г. | C63: =[1]Обор.школа!B63 -> 0 | T63: =SUM(D63:S63) -> 0 | U63: =T63*$Q$4 -> 0 | V63: =U63/1000*C63 -> 0
A64: =[1]Обор.школа!A64 -> 0 | B64: г. | C64: =[1]Обор.школа!B64 -> 0 | T64: =SUM(D64:S64) -> 0 | U64: =T64*$Q$4 -> 0 | V64: =U64/1000*C64 -> 0
A65: =[1]Обор.школа!A65 -> 0 | B65: г. | C65: =[1]Обор.школа!B65 -> 0 | T65: =SUM(D65:S65) -> 0 | U65: =T65*$Q$4 -> 0 | V65: =U65/1000*C65 -> 0
A66: =[1]Обор.школа!A66 -> 0 | B66: г. | C66: =[1]Обор.школа!B66 -> 0 | T66: =SUM(D66:S66) -> 0 | U66: =T66*$Q$4 -> 0 | V66: =U66/1000*C66 -> 0
A67: =[1]Обор.школа!A67 -> 0 | B67: г. | C67: =[1]Обор.школа!B67 -> 0 | T67: =SUM(D67:S67) -> 0 | U67: =T67*$Q$4 -> 0 | V67: =U67/1000*C67 -> 0
... A71: =[1]Обор.школа!A71 -> 0 | B71: г. | C71: =[1]Обор.школа!B71 -> 0 | T71: =SUM(D71:S71) -> 0 | U71: =T71*$Q$4 -> 0 | V71: =U71/1000*C71 -> 0
A72: =[1]Обор.школа!A72 -> Яйца(шт) | B72: шт | C72: =[1]Обор.школа!B72 -> 8 | T72: =SUM(D72:S72) -> 0 | U72: =T72*$Q$4 -> 0 | V72: =U72*C72 -> 0
A73: Итого: | B73: =V73 -> 11948.462 | D73: =(D11*$C11+D12*$C12+D13*$C13+D14*$C14+D15*$C15+D16*$C16+D17*$C17+D18*$C18+D19*$C19+D20*$C20+D21*$C21+D22*$C22+D23*$C23+D24*$C24+D25*$C25+D26*$C26+D27*$C27+D28*$C28+D29*$C29+D30*$C30+D31*$C31+D32*$C32+D33*$C33+D34*$C34+D35*$C35+D36*$C36+D37*$C37+D38*$C38+D39*$C39+D40*$C40+D41*$C41+D42*$C42+D43*$C43+D44*$C44+D45*$C45+D46*$C46+D47*$C47+D48*$C48+D49*$C49+D50*$C50+D51*$C51+D52*$C52+D53*$C53+D54*$C54+D55*$C55+D56*$C56+D57*$C57+D58*$C58+D59*$C59+D60*$C60+D61*$C61+D62*$C62+D63*$C63+D64*$C64+D65*$C65+D66*$C66+D67*$C67+D68*$C68+D69*$C69+D70*$C70+D71*$C71)/1000+D72*$C72 -> 0 | E73: =(E11*$C11+E12*$C12+E13*$C13+E14*$C14+E15*$C15+E16*$C16+E17*$C17+E18*$C18+E19*$C19+E20*$C20+E21*$C21+E22*$C22+E23*$C23+E24*$C24+E25*$C25+E26*$C26+E27*$C27+E28*$C28+E29*$C29+E30*$C30+E31*$C31+E32*$C32+E33*$C33+E34*$C34+E35*$C35+E36*$C36+E37*$C37+E38*$C38+E39*$C39+E40*$C40+E41*$C41+E42*$C42+E43*$C43+E44*$C44+E45*$C45+E46*$C46+E47*$C47+E48*$C48+E49*$C49+E50*$C50+E51*$C51+E52*$C52+E53*$C53+E54*$C54+E55*$C55+E56*$C56+E57*$C57+E58*$C58+E59*$C59+E60*$C60+E61*$C61+E62*$C62+E63*$C63+E64*$C64+E65*$C65+E66*$C66+E67*$C67+E68*$C68+E69*$C69+E70*$C70+E71*$C71)/1000+E72*$C72 -> 8.79928 | F73: =(F11*$C11+F12*$C12+F13*$C13+F14*$C14+F15*$C15+F16*$C16+F17*$C17+F18*$C18+F19*$C19+F20*$C20+F21*$C21+F22*$C22+F23*$C23+F24*$C24+F25*$C25+F26*$C26+F27*$C27+F28*$C28+F29*$C29+F30*$C30+F31*$C31+F32*$C32+F33*$C33+F34*$C34+F35*$C35+F36*$C36+F37*$C37+F38*$C38+F39*$C39+F40*$C40+F41*$C41+F42*$C42+F43*$C43+F44*$C44+F45*$C45+F46*$C46+F47*$C47+F48*$C48+F49*$C49+F50*$C50+F51*$C51+F52*$C52+F53*$C53+F54*$C54+F55*$C55+F56*$C56+F57*$C57+F58*$C58+F59*$C59+F60*$C60+F61*$C61+F62*$C62+F63*$C63+F64*$C64+F65*$C65+F66*$C66+F67*$C67+F68*$C68+F69*$C69+F70*$C70+F71*$C71)/1000+F72*$C72 -> 40.449 | G73: =(G11*$C11+G12*$C12+G13*$C13+G14*$C14+G15*$C15+G16*$C16+G17*$C17+G18*$C18+G19*$C19+G20*$C20+G21*$C21+G22*$C22+G23*$C23+G24*$C24+G25*$C25+G26*$C26+G27*$C27+G28*$C28+G29*$C29+G30*$C30+G31*$C31+G32*$C32+G33*$C33+G34*$C34+G35*$C35+G36*$C36+G37*$C37+G38*$C38+G39*$C39+G40*$C40+G41*$C41+G42*$C42+G43*$C43+G44*$C44+G45*$C45+G46*$C46+G47*$C47+G48*$C48+G49*$C49+G50*$C50+G51*$C51+G52*$C52+G53*$C53+G54*$C54+G55*$C55+G56*$C56+G57*$C57+G58*$C58+G59*$C59+G60*$C60+G61*$C61+G62*$C62+G63*$C63+G64*$C64+G65*$C65+G66*$C66+G67*$C67+G68*$C68+G69*$C69+G70*$C70+G71*$C71)/1000+G72*$C72 -> 11.228 | H73: =(H11*$C11+H12*$C12+H13*$C13+H14*$C14+H15*$C15+H16*$C16+H17*$C17+H18*$C18+H19*$C19+H20*$C20+H21*$C21+H22*$C22+H23*$C23+H24*$C24+H25*$C25+H26*$C26+H27*$C27+H28*$C28+H29*$C29+H30*$C30+H31*$C31+H32*$C32+H33*$C33+H34*$C34+H35*$C35+H36*$C36+H37*$C37+H38*$C38+H39*$C39+H40*$C40+H41*$C41+H42*$C42+H43*$C43+H44*$C44+H45*$C45+H46*$C46+H47*$C47+H48*$C48+H49*$C49+H50*$C50+H51*$C51+H52*$C52+H53*$C53+H54*$C54+H55*$C55+H56*$C56+H57*$C57+H58*$C58+H59*$C59+H60*$C60+H61*$C61+H62*$C62+H63*$C63+H64*$C64+H65*$C65+H66*$C66+H67*$C67+H68*$C68+H69*$C69+H70*$C70+H71*$C71)/1000+H72*$C72 -> 1.41 | I73: =(I11*$C11+I12*$C12+I13*$C13+I14*$C14+I15*$C15+I16*$C16+I17*$C17+I18*$C18+I19*$C19+I20*$C20+I21*$C21+I22*$C22+I23*$C23+I24*$C24+I25*$C25+I26*$C26+I27*$C27+I28*$C28+I29*$C29+I30*$C30+I31*$C31+I32*$C32+I33*$C33+I34*$C34+I35*$C35+I36*$C36+I37*$C37+I38*$C38+I39*$C39+I40*$C40+I41*$C41+I42*$C42+I43*$C43+I44*$C44+I45*$C45+I46*$C46+I47*$C47+I48*$C48+I49*$C49+I50*$C50+I51*$C51+I52*$C52+I53*$C53+I54*$C54+I55*$C55+I56*$C56+I57*$C57+I58*$C58+I59*$C59+I60*$C60+I61*$C61+I62*$C62+I63*$C63+I64*$C64+I65*$C65+I66*$C66+I67*$C67+I68*$C68+I69*$C69+I70*$C70+I71*$C71)/1000+I72*$C72 -> 1.62 | J73: =(J11*$C11+J12*$C12+J13*$C13+J14*$C14+J15*$C15+J16*$C16+J17*$C17+J18*$C18+J19*$C19+J20*$C20+J21*$C21+J22*$C22+J23*$C23+J24*$C24+J25*$C25+J26*$C26+J27*$C27+J28*$C28+J29*$C29+J30*$C30+J31*$C31+J32*$C32+J33*$C33+J34*$C34+J35*$C35+J36*$C36+J37*$C37+J38*$C38+J39*$C39+J40*$C40+J41*$C41+J42*$C42+J43*$C43+J44*$C44+J45*$C45+J46*$C46+J47*$C47+J48*$C48+J49*$C49+J50*$C50+J51*$C51+J52*$C52+J53*$C53+J54*$C54+J55*$C55+J56*$C56+J57*$C57+J58*$C58+J59*$C59+J60*$C60+J61*$C61+J62*$C62+J63*$C63+J64*$C64+J65*$C65+J66*$C66+J67*$C67+J68*$C68+J69*$C69+J70*$C70+J71*$C71)/1000+J72*$C72 -> 1.08 | K73: =(K11*$C11+K12*$C12+K13*$C13+K14*$C14+K15*$C15+K16*$C16+K17*$C17+K18*$C18+K19*$C19+K20*$C20+K21*$C21+K22*$C22+K23*$C23+K24*$C24+K25*$C25+K26*$C26+K27*$C27+K28*$C28+K29*$C29+K30*$C30+K31*$C31+K32*$C32+K33*$C33+K34*$C34+K35*$C35+K36*$C36+K37*$C37+K38*$C38+K39*$C39+K40*$C40+K41*$C41+K42*$C42+K43*$C43+K44*$C44+K45*$C45+K46*$C46+K47*$C47+K48*$C48+K49*$C49+K50*$C50+K51*$C51+K52*$C52+K53*$C53+K54*$C54+K55*$C55+K56*$C56+K57*$C57+K58*$C58+K59*$C59+K60*$C60+K61*$C61+K62*$C62+K63*$C63+K64*$C64+K65*$C65+K66*$C66+K67*$C67+K68*$C68+K69*$C69+K70*$C70+K71*$C71)/1000+K72*$C72 -> 0 | ... S73: =(S11*$C11+S12*$C12+S13*$C13+S14*$C14+S15*$C15+S16*$C16+S17*$C17+S18*$C18+S19*$C19+S20*$C20+S21*$C21+S22*$C22+S23*$C23+S24*$C24+S25*$C25+S26*$C26+S27*$C27+S28*$C28+S29*$C29+S30*$C30+S31*$C31+S32*$C32+S33*$C33+S34*$C34+S35*$C35+S36*$C36+S37*$C37+S38*$C38+S39*$C39+S40*$C40+S41*$C41+S42*$C42+S43*$C43+S44*$C44+S45*$C45+S46*$C46+S47*$C47+S48*$C48+S49*$C49+S50*$C50+S51*$C51+S52*$C52+S53*$C53+S54*$C54+S55*$C55+S56*$C56+S57*$C57+S58*$C58+S59*$C59+S60*$C60+S61*$C61+S62*$C62+S63*$C63+S64*$C64+S65*$C65+S66*$C66+S67*$C67+S68*$C68+S69*$C69+S70*$C70+S71*$C71)/1000+S72*$C72 -> 0 | V73: =SUM(V11:V72) -> 11948.462
G74: Воспитаталь: | O74: Кладовщик:
A75: Итого на 1 чел.: | B75: =B73/Q4 -> 64.58628

Sheet Лист2

Sheet Лист3
